BEGIN:VCALENDAR
VERSION:2.0
PRODID:-//مركز الحاسبة الالكترونية - ECPv6.15.14//NONSGML v1.0//EN
CALSCALE:GREGORIAN
METHOD:PUBLISH
X-WR-CALNAME:مركز الحاسبة الالكترونية
X-ORIGINAL-URL:https://uoninevah.edu.iq/cc
X-WR-CALDESC:Events for مركز الحاسبة الالكترونية
REFRESH-INTERVAL;VALUE=DURATION:PT1H
X-Robots-Tag:noindex
X-PUBLISHED-TTL:PT1H
BEGIN:VTIMEZONE
TZID:Europe/Moscow
BEGIN:STANDARD
TZOFFSETFROM:+0300
TZOFFSETTO:+0300
TZNAME:MSK
DTSTART:20250101T000000
END:STANDARD
END:VTIMEZONE
BEGIN:VEVENT
DTSTART;TZID=Europe/Moscow:20260414T100000
DTEND;TZID=Europe/Moscow:20260414T110000
DTSTAMP:20260421T233654
CREATED:20251229T090121Z
LAST-MODIFIED:20251229T090121Z
UID:905-1776160800-1776164400@uoninevah.edu.iq
SUMMARY:ندوة نظام الجودة الالكتروني
DESCRIPTION:
URL:https://uoninevah.edu.iq/cc/event/%d9%86%d8%af%d9%88%d8%a9-%d9%86%d8%b8%d8%a7%d9%85-%d8%a7%d9%84%d8%ac%d9%88%d8%af%d8%a9-%d8%a7%d9%84%d8%a7%d9%84%d9%83%d8%aa%d8%b1%d9%88%d9%86%d9%8a/
LOCATION:رئاسة جامعة نينوى\, موصل - الجوسق\, Iraq
END:VEVENT
BEGIN:VEVENT
DTSTART;TZID=Europe/Moscow:20260308T100000
DTEND;TZID=Europe/Moscow:20260310T110000
DTSTAMP:20260421T233654
CREATED:20251229T085949Z
LAST-MODIFIED:20251229T085949Z
UID:903-1772964000-1773140400@uoninevah.edu.iq
SUMMARY:دورة الإدارة الالكترونية
DESCRIPTION:
URL:https://uoninevah.edu.iq/cc/event/%d8%af%d9%88%d8%b1%d8%a9-%d8%a7%d9%84%d8%a5%d8%af%d8%a7%d8%b1%d8%a9-%d8%a7%d9%84%d8%a7%d9%84%d9%83%d8%aa%d8%b1%d9%88%d9%86%d9%8a%d8%a9/
LOCATION:رئاسة جامعة نينوى\, موصل - الجوسق\, Iraq
END:VEVENT
BEGIN:VEVENT
DTSTART;TZID=Europe/Moscow:20260224T110000
DTEND;TZID=Europe/Moscow:20260224T110000
DTSTAMP:20260421T233654
CREATED:20251229T085643Z
LAST-MODIFIED:20251229T085752Z
UID:898-1771930800-1771930800@uoninevah.edu.iq
SUMMARY:ورشة المحتوى الرقمي
DESCRIPTION:
URL:https://uoninevah.edu.iq/cc/event/%d8%a7%d9%84%d9%85%d8%ad%d8%aa%d9%88%d9%89-%d8%a7%d9%84%d8%b1%d9%82%d9%85%d9%8a/
LOCATION:رئاسة جامعة نينوى\, موصل - الجوسق\, Iraq
END:VEVENT
BEGIN:VEVENT
DTSTART;TZID=Europe/Moscow:20260217T100000
DTEND;TZID=Europe/Moscow:20260217T110000
DTSTAMP:20260421T233654
CREATED:20251229T085329Z
LAST-MODIFIED:20251229T085824Z
UID:895-1771322400-1771326000@uoninevah.edu.iq
SUMMARY:ندوة دليل حساب مؤشر الأداء الجامعي في نظام مسار بولونيا
DESCRIPTION:
URL:https://uoninevah.edu.iq/cc/event/%d8%af%d9%84%d9%8a%d9%84-%d8%ad%d8%b3%d8%a7%d8%a8-%d9%85%d8%a4%d8%b4%d8%b1-%d8%a7%d9%84%d8%a3%d8%af%d8%a7%d8%a1-%d8%a7%d9%84%d8%ac%d8%a7%d9%85%d8%b9%d9%8a-%d9%81%d9%8a-%d9%86%d8%b8%d8%a7%d9%85-%d9%85/
LOCATION:رئاسة جامعة نينوى\, موصل - الجوسق\, Iraq
END:VEVENT
END:VCALENDAR